BEGIN:VCALENDAR
VERSION:2.0
PRODID:-//Felicity Allen - ECPv6.0.7.1//NONSGML v1.0//EN
CALSCALE:GREGORIAN
METHOD:PUBLISH
X-ORIGINAL-URL:https://felicityallen.co.uk
X-WR-CALDESC:Events for Felicity Allen
REFRESH-INTERVAL;VALUE=DURATION:PT1H
X-Robots-Tag:noindex
X-PUBLISHED-TTL:PT1H
BEGIN:VTIMEZONE
TZID:Europe/Paris
BEGIN:DAYLIGHT
TZOFFSETFROM:+0100
TZOFFSETTO:+0200
TZNAME:CEST
DTSTART:20220327T010000
END:DAYLIGHT
BEGIN:STANDARD
TZOFFSETFROM:+0200
TZOFFSETTO:+0100
TZNAME:CET
DTSTART:20221030T010000
END:STANDARD
END:VTIMEZONE
BEGIN:VEVENT
DTSTART;TZID=Europe/Paris:20220820T120000
DTEND;TZID=Europe/Paris:20220918T180000
DTSTAMP:20260423T205323
CREATED:20220719T164217Z
LAST-MODIFIED:20220804T105006Z
UID:1680-1660996800-1663524000@felicityallen.co.uk
SUMMARY:The Disoeuvre: Household Mix
DESCRIPTION:The Disoeuvre: Household Mix\n20 August – 18 September 2022\nRoseville\, Ramsgate \nFelicity Allen\, Denise De Cordova\, Moyra Derby\, Jane Gifford\,\nVanessa Jackson\, Reem Khatib\, Jenny Matthews\, Chiara Williams \nClick here to view the Press Release \nWeekends 12.00-6.00\, weekdays by appointment \ncontact flick@felicityallen.co.uk \nIf you would like to attend either of these events please RSVP to flick@felicityallen.co.uk \nVernissage: 20 August\nFinissage: 17 September\nArtists Talks: 18 September\nPoetry Readings: \n\nPoetry Readings\nFriday 19 August\, 6.30-8.30\nTomi Adegbayibi\nFelicity Allen\nDavid Herd\nMohamad Kebbewar\n(Kebbewar’s poems read by Allen as he lives in Aleppo)\n\nFriday 9 September\, 6.30-8.30\nThree poets with new publications from Muscaliet Press\nDavid Hayward\nSimon Smith\nMoyra Tourlamain\n\n\n 
URL:https://felicityallen.co.uk/upcomingevent/the-disoeuvre-household-mix/
LOCATION:Roseville\, Ramsgate\, Ramsgate\, United Kingdom
END:VEVENT
END:VCALENDAR